BEGIN:VCALENDAR
VERSION:2.0
PRODID:-//Canadian Journalism Foundation - ECPv6.15.20//NONSGML v1.0//EN
CALSCALE:GREGORIAN
METHOD:PUBLISH
X-ORIGINAL-URL:https://cjf-fjc.ca
X-WR-CALDESC:Events for Canadian Journalism Foundation
REFRESH-INTERVAL;VALUE=DURATION:PT1H
X-Robots-Tag:noindex
X-PUBLISHED-TTL:PT1H
BEGIN:VTIMEZONE
TZID:UTC
BEGIN:STANDARD
TZOFFSETFROM:+0000
TZOFFSETTO:+0000
TZNAME:UTC
DTSTART:20170101T000000
END:STANDARD
END:VTIMEZONE
BEGIN:VEVENT
DTSTART;TZID=UTC:20180131T190000
DTEND;TZID=UTC:20180131T190000
DTSTAMP:20260423T042856
CREATED:20180131T161339Z
LAST-MODIFIED:20220223T193220Z
UID:15177-1517425200-1517425200@cjf-fjc.ca
SUMMARY:The Reliable Source in the Age of Misinformation: A Conversation with Brian Stelter
DESCRIPTION:[vc_row][vc_column][vc_column_text]In partnership with \n\n\n\n\n\n  \n\n\n\n\n\n\n– View the livestream\n– View the J-Source liveblog\n– View the photos\n– Listen to the podcast\n– Watch Brian Stelter on CTV Your Morning\n– Read the interview in The Globe and Mail \nYou can’t be well-informed about the media and journalism if you don’t pay attention to the stellar work of CNN senior media correspondent Brian Stelter. Through his must-watch Sunday morning show\, Reliable Sources\, which examines the week’s top media stories\, and his must-read Reliable Sources newsletter\, Stelter’s media literacy work shines light on real news amid the cacophony of noise and nonsense of a presidency that seeks to demonize journalists and spreads accusations of fake news. Stelter will be in conversation with Dawna Friesen\, anchor of Global National. \nWednesday\, January 31\nDoors open 6:30pm  |  Discussion 7:00pm  |  Reception 8:30pm \nCorus Quay\n25 Dockside Drive Toronto[/vc_column_text][/vc_column][/vc_row][vc_row css=”.vc_custom_1492008828909{margin-top: 40px !important;}”][vc_column] ABOUT THE SPEAKERS [vc_column_text]RIAN STELTER is the host of Reliable Sources\, which examines the week’s top media stories every Sunday at 11:00 a.m. ET on CNN/U.S\, and the senior media correspondent for CNN Worldwide. Stelter reports and writes for CNN/U.S.\, CNN International\, CNN.com\, and CNNMoney.com on a regular basis. Prior to joining CNN in November 2013\, Stelter was a media reporter at The New York Times. Starting in 2007\, he covered television and digital media for the Business Day and Arts section of the newspaper. He was also a lead contributor to the Media Decoder blog. @brianstelter \nDAWNA FRIESEN is the anchor of Global National\, the flagship national newscast for Global News. During her more than 30 years as a journalist\, Friesen has been on the front lines of history\, including the election of Donald Trump as President. Prior to joining Global National\, Friesen was a senior foreign correspondent for NBC News\, based in in London. During her 11 years there\, she travelled extensively across Europe and the Middle East\, covering the wars in Afghanistan and Iraq\, spending months in Israel and Gaza during the conflict there\, following the disappearance (and murder) of journalist Daniel Pearl in Pakistan\, and covering events in Russia\, including terrorist attacks in Moscow and Beslan. Her work appeared on NBC Nightly News\, Today and MSNBC\, and she won an Emmy award for election night coverage when President Barack Obama won his first term. @DFriesenGlobal[/vc_column_text][/vc_column][/vc_row][vc_row][vc_column width=”1/2″][vc_column_text] \nCJF J-TALKS SERIES SPONSOR \n[/vc_column_text][vc_row_inner][vc_column_inner][vc_single_image image=”2207″ alignment=”center”][/vc_column_inner][/vc_row_inner][/vc_column][vc_column width=”1/2″][vc_column_text] \nIN-KIND SUPPORTER \n[/vc_column_text][vc_row_inner][vc_column_inner][vc_single_image image=”2119″ img_size=”full” alignment=”center”][/vc_column_inner][/vc_row_inner][/vc_column][/vc_row][vc_row][vc_column][vc_column_text]*Program subject to change[/vc_column_text][/vc_column][/vc_row]
URL:https://cjf-fjc.ca/event/the-reliable-source-in-the-age-of-misinformation-a-conversation-with-brian-stelter/
LOCATION:Corus Quay
CATEGORIES:2018
ATTACH;FMTTYPE=image/jpeg:https://cjf-fjc.ca/wp-content/uploads/1-2018.jpg
END:VEVENT
END:VCALENDAR